BEGIN:VCALENDAR
VERSION:2.0
PRODID:-//Circolo Abruzzese - ECPv6.15.20//NONSGML v1.0//EN
CALSCALE:GREGORIAN
METHOD:PUBLISH
X-WR-CALNAME:Circolo Abruzzese
X-ORIGINAL-URL:http://circoloabruzzese.ca
X-WR-CALDESC:Events for Circolo Abruzzese
REFRESH-INTERVAL;VALUE=DURATION:PT1H
X-Robots-Tag:noindex
X-PUBLISHED-TTL:PT1H
BEGIN:VTIMEZONE
TZID:America/Vancouver
BEGIN:DAYLIGHT
TZOFFSETFROM:-0800
TZOFFSETTO:-0700
TZNAME:PDT
DTSTART:20220313T100000
END:DAYLIGHT
BEGIN:STANDARD
TZOFFSETFROM:-0700
TZOFFSETTO:-0800
TZNAME:PST
DTSTART:20221106T090000
END:STANDARD
BEGIN:DAYLIGHT
TZOFFSETFROM:-0800
TZOFFSETTO:-0700
TZNAME:PDT
DTSTART:20230312T100000
END:DAYLIGHT
BEGIN:STANDARD
TZOFFSETFROM:-0700
TZOFFSETTO:-0800
TZNAME:PST
DTSTART:20231105T090000
END:STANDARD
BEGIN:DAYLIGHT
TZOFFSETFROM:-0800
TZOFFSETTO:-0700
TZNAME:PDT
DTSTART:20240310T100000
END:DAYLIGHT
BEGIN:STANDARD
TZOFFSETFROM:-0700
TZOFFSETTO:-0800
TZNAME:PST
DTSTART:20241103T090000
END:STANDARD
END:VTIMEZONE
BEGIN:VEVENT
DTSTART;TZID=America/Vancouver:20231210T120000
DTEND;TZID=America/Vancouver:20231210T170000
DTSTAMP:20260425T065656
CREATED:20230501T161831Z
LAST-MODIFIED:20231202T030545Z
UID:280-1702209600-1702227600@circoloabruzzese.ca
SUMMARY:Festa De La Famiglia – 2023
DESCRIPTION:Free for Members.\nFree for children of members.\nNon-member Adults: $30\nNon-member Price for children ages 5 – 12yr: $15 \nDoors open at 12:00. Food will be served by 12:30.  \nMemberships must have been paid by October 31st to attend for free.
URL:http://circoloabruzzese.ca/event/festa-de-la-famiglia-2023/
LOCATION:Lochdale Community Hall Association\, 490 Sperling Ave\, Burnaby\, BC\, V5B 4H3\, Canada
CATEGORIES:Burnaby
ATTACH;FMTTYPE=image/jpeg:http://circoloabruzzese.ca/wp-content/uploads/2023/05/fasta.jpg
END:VEVENT
END:VCALENDAR