BEGIN:VCALENDAR
VERSION:2.0
PRODID:-//Circolo Abruzzese - ECPv6.15.20//NONSGML v1.0//EN
CALSCALE:GREGORIAN
METHOD:PUBLISH
X-WR-CALNAME:Circolo Abruzzese
X-ORIGINAL-URL:http://circoloabruzzese.ca
X-WR-CALDESC:Events for Circolo Abruzzese
REFRESH-INTERVAL;VALUE=DURATION:PT1H
X-Robots-Tag:noindex
X-PUBLISHED-TTL:PT1H
BEGIN:VTIMEZONE
TZID:America/Vancouver
BEGIN:DAYLIGHT
TZOFFSETFROM:-0800
TZOFFSETTO:-0700
TZNAME:PDT
DTSTART:20220313T100000
END:DAYLIGHT
BEGIN:STANDARD
TZOFFSETFROM:-0700
TZOFFSETTO:-0800
TZNAME:PST
DTSTART:20221106T090000
END:STANDARD
BEGIN:DAYLIGHT
TZOFFSETFROM:-0800
TZOFFSETTO:-0700
TZNAME:PDT
DTSTART:20230312T100000
END:DAYLIGHT
BEGIN:STANDARD
TZOFFSETFROM:-0700
TZOFFSETTO:-0800
TZNAME:PST
DTSTART:20231105T090000
END:STANDARD
BEGIN:DAYLIGHT
TZOFFSETFROM:-0800
TZOFFSETTO:-0700
TZNAME:PDT
DTSTART:20240310T100000
END:DAYLIGHT
BEGIN:STANDARD
TZOFFSETFROM:-0700
TZOFFSETTO:-0800
TZNAME:PST
DTSTART:20241103T090000
END:STANDARD
END:VTIMEZONE
BEGIN:VEVENT
DTSTART;TZID=America/Vancouver:20230723T100000
DTEND;TZID=America/Vancouver:20230723T183000
DTSTAMP:20260422T000033
CREATED:20230427T022521Z
LAST-MODIFIED:20230914T202344Z
UID:263-1690106400-1690137000@circoloabruzzese.ca
SUMMARY:Circolo Abruzzese Annual Picnic - July 23\, 2023
DESCRIPTION:Join us on July 23rd for the annual all-day picnic event hosted by Circolo Abruzzese of Vancouver! This fun-filled event is open to the public and entrance is completely free. Bring your family and friends along to enjoy a day of games and activities for children of all ages. We’ll be there from 10am to 7pm \nWe’ve got plenty of exciting games and activities planned for the little ones\, so they’re sure to have a blast. And for those feeling lucky\, there will be raffle tickets available for purchase\, with great prizes to be won. \nOf course\, no picnic would be complete without food and refreshments\, and we’ve got you covered. There will be a range of delicious food and drinks available for purchase throughout the day\, so you can relax and enjoy yourself without worrying about packing a lunch. \nSo mark your calendars and don’t miss out on this fantastic annual event. \n 
URL:http://circoloabruzzese.ca/event/circolo-abruzzese-annual-picnic/
LOCATION:Confederation Park Picnic Area\, 205 Beta Ave\, Burnaby\, BC\, V5C 2K8\, Canada
CATEGORIES:Burnaby,Charity,Fundraiser
ATTACH;FMTTYPE=image/png:http://circoloabruzzese.ca/wp-content/uploads/2023/04/picnic.png
END:VEVENT
END:VCALENDAR