BEGIN:VCALENDAR
VERSION:2.0
PRODID:-//Circolo Abruzzese - ECPv6.15.20//NONSGML v1.0//EN
CALSCALE:GREGORIAN
METHOD:PUBLISH
X-ORIGINAL-URL:http://circoloabruzzese.ca
X-WR-CALDESC:Events for Circolo Abruzzese
REFRESH-INTERVAL;VALUE=DURATION:PT1H
X-Robots-Tag:noindex
X-PUBLISHED-TTL:PT1H
BEGIN:VTIMEZONE
TZID:America/Vancouver
BEGIN:DAYLIGHT
TZOFFSETFROM:-0800
TZOFFSETTO:-0700
TZNAME:PDT
DTSTART:20220313T100000
END:DAYLIGHT
BEGIN:STANDARD
TZOFFSETFROM:-0700
TZOFFSETTO:-0800
TZNAME:PST
DTSTART:20221106T090000
END:STANDARD
BEGIN:DAYLIGHT
TZOFFSETFROM:-0800
TZOFFSETTO:-0700
TZNAME:PDT
DTSTART:20230312T100000
END:DAYLIGHT
BEGIN:STANDARD
TZOFFSETFROM:-0700
TZOFFSETTO:-0800
TZNAME:PST
DTSTART:20231105T090000
END:STANDARD
BEGIN:DAYLIGHT
TZOFFSETFROM:-0800
TZOFFSETTO:-0700
TZNAME:PDT
DTSTART:20240310T100000
END:DAYLIGHT
BEGIN:STANDARD
TZOFFSETFROM:-0700
TZOFFSETTO:-0800
TZNAME:PST
DTSTART:20241103T090000
END:STANDARD
END:VTIMEZONE
BEGIN:VEVENT
DTSTART;TZID=America/Vancouver:20230601T190000
DTEND;TZID=America/Vancouver:20230601T220000
DTSTAMP:20260419T142200
CREATED:20230602T154605Z
LAST-MODIFIED:20230602T155316Z
UID:303-1685646000-1685656800@circoloabruzzese.ca
SUMMARY:Festa Della Repubblica Vancouver\, 2023
DESCRIPTION:Celebrating La Festa della Repubblica at the Italian Cultural Centre in Vancouver\nThe Italian Cultural Centre in Vancouver came alive last night as the community gathered to celebrate La Festa della Repubblica. This annual event\, commemorating the establishment of the Italian Republic\, provided an opportunity to learn about its history\, significance\, and enjoy delightful performances. The evening was complemented by an array of delectable dishes representing various Italian provinces\, including Calabria\, Friuli\, Sicily\, and Abruzzo\, with the Italian Centre serving mouthwatering pasta and risotto. \nExploring History and Significance:\nGuests at the event were treated to insightful presentations on the historical background of La Festa della Repubblica\, emphasizing its importance in embracing democracy\, freedom\, and national unity. The celebration symbolizes Italy’s journey as a republic\, honouring the sacrifices made for independence and celebrating progress as a united nation. \nEnchanting Performances:\nAn enchanting Soprano Opera Singer captivated the audience with her powerful and emotive performance\, evoking Italy’s rich artistic heritage. The melodies and expressions showcased the country’s cultural prowess and left a lasting impact on attendees. \nSpecial Appearance by Joe Avati:\nRenowned comedian Joe Avati added laughter and camaraderie to the evening with his hilarious anecdotes and keen observations of Italian life. His witty jokes\, delivered in English and Italian\, fostered a warm sense of community and elicited uproarious laughter. \nDelightful Gastronomic Experience:\nThe celebration also featured a culinary journey through Italy\, with an array of dishes representing different provinces. Attendees savored delicious pasta and risotto offered by the Italian Centre\, showcasing the diverse flavours and regional specialties of Calabria\, Friuli\, Sicily\, and Abruzzo. \nCommunity Bonding and Celebration:\nBeyond the cultural and gastronomic experiences\, La Festa della Repubblica brought the community together\, fostering new connections and reinforcing existing bonds. The event created a vibrant atmosphere filled with shared pride\, laughter\, and appreciation for Italian heritage. \nLa Festa della Repubblica at the Italian Cultural Centre in Vancouver was a joyous celebration of Italian culture\, history\, and community. Attendees learned about the event’s significance\, enjoyed captivating performances by an opera singer and Joe Avati\, and savoured a variety of mouthwatering dishes representing different Italian provinces. The evening reinforced the sense of unity and pride among attendees\, creating lasting memories of a vibrant celebration of Italian heritage. We hope next year’s celebration will be just as great. \n  \n\n			\n				\n			\n			\n				\n			\n			\n				\n			\n			\n				\n			\n			\n				\n			\n			\n				\n			\n			\n				\n			\n			\n				\n			\n			\n				\n			\n			\n				\n			\n			\n				\n			\n			\n				\n			\n			\n				\n			\n			\n				\n			\n			\n				\n			\n			\n				\n			\n			\n				\n			\n			\n				\n			\n			\n				\n			\n			\n		\n\n 
URL:http://circoloabruzzese.ca/event/festa-della-repubblica-vancouver-2023/
LOCATION:Italian Cultural Centre of Vancouver\, 3075 Slocan Street\, Vancouver\, BC\, V5M 3E4\, Canada
CATEGORIES:History,Vancouver
END:VEVENT
END:VCALENDAR