BEGIN:VCALENDAR
VERSION:2.0
PRODID:-//Circolo Abruzzese - ECPv6.15.20//NONSGML v1.0//EN
CALSCALE:GREGORIAN
METHOD:PUBLISH
X-ORIGINAL-URL:https://circoloabruzzese.ca
X-WR-CALDESC:Events for Circolo Abruzzese
REFRESH-INTERVAL;VALUE=DURATION:PT1H
X-Robots-Tag:noindex
X-PUBLISHED-TTL:PT1H
BEGIN:VTIMEZONE
TZID:America/Vancouver
BEGIN:DAYLIGHT
TZOFFSETFROM:-0800
TZOFFSETTO:-0700
TZNAME:PDT
DTSTART:20230312T100000
END:DAYLIGHT
BEGIN:STANDARD
TZOFFSETFROM:-0700
TZOFFSETTO:-0800
TZNAME:PST
DTSTART:20231105T090000
END:STANDARD
BEGIN:DAYLIGHT
TZOFFSETFROM:-0800
TZOFFSETTO:-0700
TZNAME:PDT
DTSTART:20240310T100000
END:DAYLIGHT
BEGIN:STANDARD
TZOFFSETFROM:-0700
TZOFFSETTO:-0800
TZNAME:PST
DTSTART:20241103T090000
END:STANDARD
BEGIN:DAYLIGHT
TZOFFSETFROM:-0800
TZOFFSETTO:-0700
TZNAME:PDT
DTSTART:20250309T100000
END:DAYLIGHT
BEGIN:STANDARD
TZOFFSETFROM:-0700
TZOFFSETTO:-0800
TZNAME:PST
DTSTART:20251102T090000
END:STANDARD
END:VTIMEZONE
BEGIN:VEVENT
DTSTART;TZID=America/Vancouver:20240818T110000
DTEND;TZID=America/Vancouver:20240818T170000
DTSTAMP:20260420T230036
CREATED:20240127T001132Z
LAST-MODIFIED:20250331T183349Z
UID:496-1723978800-1724000400@circoloabruzzese.ca
SUMMARY:Circolo Abruzzese Annual Picnic – August 18\, 2024
DESCRIPTION:Circolo Abruzzese’s Annual Picnic! \n 
URL:https://circoloabruzzese.ca/event/circolo-abruzzese-annual-picnic-august-18-2024/
LOCATION:Confederation Park Picnic Area\, 205 Beta Ave\, Burnaby\, BC\, V5C 2K8\, Canada
CATEGORIES:Fundraiser,Picnic
ATTACH;FMTTYPE=image/jpeg:https://circoloabruzzese.ca/wp-content/uploads/2023/09/IMG_2329.jpg
END:VEVENT
END:VCALENDAR