BEGIN:VCALENDAR
VERSION:2.0
PRODID:-//Circolo Abruzzese - ECPv6.15.20//NONSGML v1.0//EN
CALSCALE:GREGORIAN
METHOD:PUBLISH
X-ORIGINAL-URL:https://circoloabruzzese.ca
X-WR-CALDESC:Events for Circolo Abruzzese
REFRESH-INTERVAL;VALUE=DURATION:PT1H
X-Robots-Tag:noindex
X-PUBLISHED-TTL:PT1H
BEGIN:VTIMEZONE
TZID:America/Vancouver
BEGIN:DAYLIGHT
TZOFFSETFROM:-0800
TZOFFSETTO:-0700
TZNAME:PDT
DTSTART:20210314T100000
END:DAYLIGHT
BEGIN:STANDARD
TZOFFSETFROM:-0700
TZOFFSETTO:-0800
TZNAME:PST
DTSTART:20211107T090000
END:STANDARD
BEGIN:DAYLIGHT
TZOFFSETFROM:-0800
TZOFFSETTO:-0700
TZNAME:PDT
DTSTART:20220313T100000
END:DAYLIGHT
BEGIN:STANDARD
TZOFFSETFROM:-0700
TZOFFSETTO:-0800
TZNAME:PST
DTSTART:20221106T090000
END:STANDARD
BEGIN:DAYLIGHT
TZOFFSETFROM:-0800
TZOFFSETTO:-0700
TZNAME:PDT
DTSTART:20230312T100000
END:DAYLIGHT
BEGIN:STANDARD
TZOFFSETFROM:-0700
TZOFFSETTO:-0800
TZNAME:PST
DTSTART:20231105T090000
END:STANDARD
BEGIN:DAYLIGHT
TZOFFSETFROM:-0800
TZOFFSETTO:-0700
TZNAME:PDT
DTSTART:20240310T100000
END:DAYLIGHT
BEGIN:STANDARD
TZOFFSETFROM:-0700
TZOFFSETTO:-0800
TZNAME:PST
DTSTART:20241103T090000
END:STANDARD
BEGIN:DAYLIGHT
TZOFFSETFROM:-0800
TZOFFSETTO:-0700
TZNAME:PDT
DTSTART:20250309T100000
END:DAYLIGHT
BEGIN:STANDARD
TZOFFSETFROM:-0700
TZOFFSETTO:-0800
TZNAME:PST
DTSTART:20251102T090000
END:STANDARD
END:VTIMEZONE
BEGIN:VEVENT
DTSTART;TZID=America/Vancouver:20241123T173000
DTEND;TZID=America/Vancouver:20241124T010000
DTSTAMP:20260419T051141
CREATED:20240127T001913Z
LAST-MODIFIED:20250401T015251Z
UID:498-1732383000-1732410000@circoloabruzzese.ca
SUMMARY:Festa D'Autunno - 2024
DESCRIPTION:Festa d’Autunno: A Celebration of Autumn\nThank you to everyone who attended this years Festa d’Autunno. Please enjoy the photos from the evening. \nIf you would like to be removed from this gallery\, please email: circoloabruzzesevan@gmail.com.  \n\n  \n  \nCircolo Abruzzese of Vancouver for a vibrant and joyous autumn celebration – the “Festa d’Autunno”! Immerse yourself in the beauty of the autumn season\, as we come together to honour our rich Abruzzese heritage\, delicious cuisine\, and the changing colours of the fall. \nAbout Festa d’Autunno\nFesta d’Autunno\, meaning “Autumn Festival” in Italian\, is a time-honored tradition where friends and family gather to revel in the bounties of the season. The Circolo Abruzzese of Vancouver embraces this tradition with open arms\, bringing you a day filled with exciting activities\, mouth-watering food\, and a warm\, welcoming atmosphere. \nOur Activities\n\nTraditional Food and Culinary Delights: Indulge in a feast of authentic Abruzzese dishes prepared by the talented chefs at the Italian Centre. From savoury pasta dishes to delectable desserts\, our menu is a journey through the flavours of Italy.\n\n50/50 Draw and Raffle tickets for donated prizes. \n\nMusic and Dancing: Vic & Adriano Mazzei\nDress to impress\n\n \n 
URL:https://circoloabruzzese.ca/event/festa-dautunno-2024/
LOCATION:Italian Cultural Centre of Vancouver\, 3075 Slocan Street\, Vancouver\, BC\, V5M 3E4\, Canada
CATEGORIES:Festa d'autunno,Fundraiser
ATTACH;FMTTYPE=image/png:https://circoloabruzzese.ca/wp-content/uploads/2024/01/festa-2024.png
END:VEVENT
BEGIN:VEVENT
DTSTART;TZID=America/Vancouver:20240818T110000
DTEND;TZID=America/Vancouver:20240818T170000
DTSTAMP:20260419T051141
CREATED:20240127T001132Z
LAST-MODIFIED:20250331T183349Z
UID:496-1723978800-1724000400@circoloabruzzese.ca
SUMMARY:Circolo Abruzzese Annual Picnic – August 18\, 2024
DESCRIPTION:Circolo Abruzzese’s Annual Picnic! \n 
URL:https://circoloabruzzese.ca/event/circolo-abruzzese-annual-picnic-august-18-2024/
LOCATION:Confederation Park Picnic Area\, 205 Beta Ave\, Burnaby\, BC\, V5C 2K8\, Canada
CATEGORIES:Fundraiser,Picnic
ATTACH;FMTTYPE=image/jpeg:https://circoloabruzzese.ca/wp-content/uploads/2023/09/IMG_2329.jpg
END:VEVENT
BEGIN:VEVENT
DTSTART;TZID=America/Vancouver:20231125T180000
DTEND;TZID=America/Vancouver:20231126T010000
DTSTAMP:20260419T051141
CREATED:20221202T172819Z
LAST-MODIFIED:20230928T035224Z
UID:140-1700935200-1700960400@circoloabruzzese.ca
SUMMARY:Festa D'Autunno - 2023
DESCRIPTION:Festa d’Autunno: A Celebration of Autumn\nJoin the Circolo Abruzzese of Vancouver for a vibrant and joyous autumn celebration – the “Festa d’Autunno”! Immerse yourself in the beauty of the autumn season\, as we come together to honour our rich Abruzzese heritage\, delicious cuisine\, and the changing colours of the fall. \nAbout Festa d’Autunno\nFesta d’Autunno\, meaning “Autumn Festival” in Italian\, is a time-honored tradition where friends and family gather to revel in the bounties of the season. The Circolo Abruzzese of Vancouver embraces this tradition with open arms\, bringing you a day filled with exciting activities\, mouth-watering food\, and a warm\, welcoming atmosphere. \nOur Activities\n\nTraditional Food and Culinary Delights: Indulge in a feast of authentic Abruzzese dishes prepared by the talented chefs at the Italian Centre. From savoury pasta dishes to delectable desserts\, our menu is a journey through the flavours of Italy.\n\n50/50 Draw/Door Prizes and Raffle tickets for donated prizes. \n\nMusic and Dancing: Feel the beat and dance the night away to the tunes spun by VIC & ADRIANO MAZZEI. Experience the lively and dynamic atmosphere of Abruzzese celebration through music.\n\n  \n\n  \nMENU\nANTIPASTO \nProsciutto\, Seasonal Fruit\, Marinated Mushrooms\, Artichoke Hearts\, Bocconcini Cheese\, Olives\, Pickles \nPRIMI PIATI \nElicoidali al Pomodoro – (small Rigatoni) \n& \nPlatters of Mushroom Risotto \nSECONDI \nVeal Medallions served with Roast Potatoes & Mixed Vegetables \nSalad with House Dressing \nBuns & Butter \nDESSERT \nAssortment of Italian Pastries \nCoffee & Espresso \nComplimentary Wine with Dinner\, Vegetarian Option Available \n\nTicket Pricing: \nAdults: $75 \nKids 5 – 12: $35 \nTo enquire about tables or individual ticket sales\, please email circoloabruzzesevan@gmail.com
URL:https://circoloabruzzese.ca/event/la-festa-autunnale-2023/
LOCATION:Italian Cultural Centre of Vancouver\, 3075 Slocan Street\, Vancouver\, BC\, V5M 3E4\, Canada
CATEGORIES:Charity,Dinner,Fundraiser,Vancouver
ATTACH;FMTTYPE=image/png:https://circoloabruzzese.ca/wp-content/uploads/2022/12/festa.png
END:VEVENT
BEGIN:VEVENT
DTSTART;TZID=America/Vancouver:20231013T183000
DTEND;TZID=America/Vancouver:20231014T183000
DTSTAMP:20260419T051141
CREATED:20231017T214625Z
LAST-MODIFIED:20231017T215557Z
UID:413-1697221800-1697308200@circoloabruzzese.ca
SUMMARY:La Dolce Vita - Il Centro's 46th Anniversary Gala Fundraiser
DESCRIPTION:Experience an enchanting evening of sophistication and allure at our upcoming gala\, where the theme “La Dolce Vita” promises refined indulgence. \nImmerse yourself in the captivating allure of ‘La Dolce Vita’ at our 46th Anniversary Gala Fundraiser on October 13th! Delight in delectable Italian cuisine\, savor exquisite wines\, and dance to the melodious tunes by Federico Fuoco. \nThis night will be etched in your memory\, and it will contribute to our endeavors at Il Centro\, including: \n– Creating additional future childcare spaces\n– Enhancing senior health and social activities\n– Expanding our youth programming\n– Preserving and maintaining our expansive facility \nJoin us as the doors open at 6 PM for Aperitivo hour\, with dinner to be served at 7 PM. \nStep into ‘La Dolce Vita’ – a jubilation of life\, love\, and the generosity of giving. \nSecure a full table for $1\,500\, accommodating 10 people. For tickets\, email: circoloabruzzesevan@gmail.com \n \n\n  \n 
URL:https://circoloabruzzese.ca/event/la-dolce-vita-gala-2023/
LOCATION:Italian Cultural Centre of Vancouver\, 3075 Slocan Street\, Vancouver\, BC\, V5M 3E4\, Canada
CATEGORIES:Fundraiser,Gala
ATTACH;FMTTYPE=image/jpeg:https://circoloabruzzese.ca/wp-content/uploads/2023/10/circolo.jpg
END:VEVENT
BEGIN:VEVENT
DTSTART;TZID=America/Vancouver:20230723T100000
DTEND;TZID=America/Vancouver:20230723T183000
DTSTAMP:20260419T051141
CREATED:20230427T022521Z
LAST-MODIFIED:20230914T202344Z
UID:263-1690106400-1690137000@circoloabruzzese.ca
SUMMARY:Circolo Abruzzese Annual Picnic - July 23\, 2023
DESCRIPTION:Join us on July 23rd for the annual all-day picnic event hosted by Circolo Abruzzese of Vancouver! This fun-filled event is open to the public and entrance is completely free. Bring your family and friends along to enjoy a day of games and activities for children of all ages. We’ll be there from 10am to 7pm \nWe’ve got plenty of exciting games and activities planned for the little ones\, so they’re sure to have a blast. And for those feeling lucky\, there will be raffle tickets available for purchase\, with great prizes to be won. \nOf course\, no picnic would be complete without food and refreshments\, and we’ve got you covered. There will be a range of delicious food and drinks available for purchase throughout the day\, so you can relax and enjoy yourself without worrying about packing a lunch. \nSo mark your calendars and don’t miss out on this fantastic annual event. \n 
URL:https://circoloabruzzese.ca/event/circolo-abruzzese-annual-picnic/
LOCATION:Confederation Park Picnic Area\, 205 Beta Ave\, Burnaby\, BC\, V5C 2K8\, Canada
CATEGORIES:Burnaby,Charity,Fundraiser
ATTACH;FMTTYPE=image/png:https://circoloabruzzese.ca/wp-content/uploads/2023/04/picnic.png
END:VEVENT
BEGIN:VEVENT
DTSTART;TZID=America/Vancouver:20230622T080000
DTEND;TZID=America/Vancouver:20230625T170000
DTSTAMP:20260419T051141
CREATED:20230427T020313Z
LAST-MODIFIED:20230427T020313Z
UID:259-1687420800-1687712400@circoloabruzzese.ca
SUMMARY:ICSF Conwest Coppa Italia 2023 Tournament
DESCRIPTION:The Italian Canadian Sports Federation is excited to once again be hosting the ICSF Conwest Coppa Italia 2023 Tournament. The tournament returned to Adanac Park on June 22.
URL:https://circoloabruzzese.ca/event/icsf-conwest-coppa-italia-2023-tournament/
LOCATION:Adanac Park\, 1025 Boundary Rd\, Vancouver\, BC\, V5K 4T2\, Canada
CATEGORIES:Fundraiser
END:VEVENT
BEGIN:VEVENT
DTSTART;TZID=America/Vancouver:20221126T180000
DTEND;TZID=America/Vancouver:20221127T010000
DTSTAMP:20260419T051141
CREATED:20221107T173658Z
LAST-MODIFIED:20221111T005434Z
UID:108-1669485600-1669510800@circoloabruzzese.ca
SUMMARY:La Festa Autunnale - 2022
DESCRIPTION:Join us to celebrate La festa Autunnale\nDoors & Bar Open at 6:00 pm \nDinner: 7:00 pm \nDJ: Vic & Adriano Mazzei \nSave your seats by emailing: circoloabruzzesevan@gmail.com\nMENU\nANTIPASTO\nProsciutto & Melon \nMarinated Mushrooms \nArtichoke Hearts \nBocconcini Cheese \nOlives & Pickles \nPRIMO\nElicoidali with Tomato Sauce \nPlatters of Risotto \nSECONDI\nVeal Medallions\, roasted Potatoes\, Seasonal Vegetables \nSalad \nBuns & Butter \nDOLCI\nCoffee & Tea \nItalian Style Cream Filled Pastries
URL:https://circoloabruzzese.ca/event/la-festa-autunnale-2022/
LOCATION:Italian Cultural Centre of Vancouver\, 3075 Slocan Street\, Vancouver\, BC\, V5M 3E4\, Canada
CATEGORIES:Charity,Dinner,Fundraiser,Gala,Vancouver
ATTACH;FMTTYPE=image/png:https://circoloabruzzese.ca/wp-content/uploads/2022/11/Screen-Shot-2022-11-07-at-9.31.06-AM.png
END:VEVENT
END:VCALENDAR