BEGIN:VCALENDAR
VERSION:2.0
PRODID:-//Circolo Abruzzese - ECPv6.15.20//NONSGML v1.0//EN
CALSCALE:GREGORIAN
METHOD:PUBLISH
X-ORIGINAL-URL:https://circoloabruzzese.ca
X-WR-CALDESC:Events for Circolo Abruzzese
REFRESH-INTERVAL;VALUE=DURATION:PT1H
X-Robots-Tag:noindex
X-PUBLISHED-TTL:PT1H
BEGIN:VTIMEZONE
TZID:America/Vancouver
BEGIN:DAYLIGHT
TZOFFSETFROM:-0800
TZOFFSETTO:-0700
TZNAME:PDT
DTSTART:20210314T100000
END:DAYLIGHT
BEGIN:STANDARD
TZOFFSETFROM:-0700
TZOFFSETTO:-0800
TZNAME:PST
DTSTART:20211107T090000
END:STANDARD
BEGIN:DAYLIGHT
TZOFFSETFROM:-0800
TZOFFSETTO:-0700
TZNAME:PDT
DTSTART:20220313T100000
END:DAYLIGHT
BEGIN:STANDARD
TZOFFSETFROM:-0700
TZOFFSETTO:-0800
TZNAME:PST
DTSTART:20221106T090000
END:STANDARD
BEGIN:DAYLIGHT
TZOFFSETFROM:-0800
TZOFFSETTO:-0700
TZNAME:PDT
DTSTART:20230312T100000
END:DAYLIGHT
BEGIN:STANDARD
TZOFFSETFROM:-0700
TZOFFSETTO:-0800
TZNAME:PST
DTSTART:20231105T090000
END:STANDARD
END:VTIMEZONE
BEGIN:VEVENT
DTSTART;TZID=America/Vancouver:20221126T180000
DTEND;TZID=America/Vancouver:20221127T010000
DTSTAMP:20260419T061528
CREATED:20221107T173658Z
LAST-MODIFIED:20221111T005434Z
UID:108-1669485600-1669510800@circoloabruzzese.ca
SUMMARY:La Festa Autunnale - 2022
DESCRIPTION:Join us to celebrate La festa Autunnale\nDoors & Bar Open at 6:00 pm \nDinner: 7:00 pm \nDJ: Vic & Adriano Mazzei \nSave your seats by emailing: circoloabruzzesevan@gmail.com\nMENU\nANTIPASTO\nProsciutto & Melon \nMarinated Mushrooms \nArtichoke Hearts \nBocconcini Cheese \nOlives & Pickles \nPRIMO\nElicoidali with Tomato Sauce \nPlatters of Risotto \nSECONDI\nVeal Medallions\, roasted Potatoes\, Seasonal Vegetables \nSalad \nBuns & Butter \nDOLCI\nCoffee & Tea \nItalian Style Cream Filled Pastries
URL:https://circoloabruzzese.ca/event/la-festa-autunnale-2022/
LOCATION:Italian Cultural Centre of Vancouver\, 3075 Slocan Street\, Vancouver\, BC\, V5M 3E4\, Canada
CATEGORIES:Charity,Dinner,Fundraiser,Gala,Vancouver
ATTACH;FMTTYPE=image/png:https://circoloabruzzese.ca/wp-content/uploads/2022/11/Screen-Shot-2022-11-07-at-9.31.06-AM.png
END:VEVENT
END:VCALENDAR