BEGIN:VCALENDAR
VERSION:2.0
PRODID:-//Circolo Abruzzese - ECPv6.15.20//NONSGML v1.0//EN
CALSCALE:GREGORIAN
METHOD:PUBLISH
X-WR-CALNAME:Circolo Abruzzese
X-ORIGINAL-URL:https://circoloabruzzese.ca
X-WR-CALDESC:Events for Circolo Abruzzese
REFRESH-INTERVAL;VALUE=DURATION:PT1H
X-Robots-Tag:noindex
X-PUBLISHED-TTL:PT1H
BEGIN:VTIMEZONE
TZID:America/Vancouver
BEGIN:DAYLIGHT
TZOFFSETFROM:-0800
TZOFFSETTO:-0700
TZNAME:PDT
DTSTART:20230312T100000
END:DAYLIGHT
BEGIN:STANDARD
TZOFFSETFROM:-0700
TZOFFSETTO:-0800
TZNAME:PST
DTSTART:20231105T090000
END:STANDARD
BEGIN:DAYLIGHT
TZOFFSETFROM:-0800
TZOFFSETTO:-0700
TZNAME:PDT
DTSTART:20240310T100000
END:DAYLIGHT
BEGIN:STANDARD
TZOFFSETFROM:-0700
TZOFFSETTO:-0800
TZNAME:PST
DTSTART:20241103T090000
END:STANDARD
BEGIN:DAYLIGHT
TZOFFSETFROM:-0800
TZOFFSETTO:-0700
TZNAME:PDT
DTSTART:20250309T100000
END:DAYLIGHT
BEGIN:STANDARD
TZOFFSETFROM:-0700
TZOFFSETTO:-0800
TZNAME:PST
DTSTART:20251102T090000
END:STANDARD
END:VTIMEZONE
BEGIN:VEVENT
DTSTART;TZID=America/Vancouver:20240505T110000
DTEND;TZID=America/Vancouver:20240505T150000
DTSTAMP:20260420T160458
CREATED:20240127T000813Z
LAST-MODIFIED:20240127T000813Z
UID:492-1714906800-1714921200@circoloabruzzese.ca
SUMMARY:Mothers Day Lunch - 2024
DESCRIPTION:We’ve scheduled this year’s Mother’s Day Lunch for May 5th\, 2024 \nDetails regarding the restaurant and time will be announced soon.
URL:https://circoloabruzzese.ca/event/mothers-day-lunch-2024/
LOCATION:BC
CATEGORIES:Mothers Day
ATTACH;FMTTYPE=image/png:https://circoloabruzzese.ca/wp-content/uploads/2023/10/Circolo-Abruzzese-Logo.png
END:VEVENT
END:VCALENDAR